BEGIN:VCALENDAR
VERSION:2.0
PRODID:-//Featuring Tiptoe Art - ECPv6.15.20//NONSGML v1.0//EN
CALSCALE:GREGORIAN
METHOD:PUBLISH
X-WR-CALNAME:Featuring Tiptoe Art
X-ORIGINAL-URL:https://jerichoroadstudio.com
X-WR-CALDESC:Events for Featuring Tiptoe Art
REFRESH-INTERVAL;VALUE=DURATION:PT1H
X-Robots-Tag:noindex
X-PUBLISHED-TTL:PT1H
BEGIN:VTIMEZONE
TZID:America/Denver
BEGIN:DAYLIGHT
TZOFFSETFROM:-0700
TZOFFSETTO:-0600
TZNAME:MDT
DTSTART:20240310T090000
END:DAYLIGHT
BEGIN:STANDARD
TZOFFSETFROM:-0600
TZOFFSETTO:-0700
TZNAME:MST
DTSTART:20241103T080000
END:STANDARD
BEGIN:DAYLIGHT
TZOFFSETFROM:-0700
TZOFFSETTO:-0600
TZNAME:MDT
DTSTART:20250309T090000
END:DAYLIGHT
BEGIN:STANDARD
TZOFFSETFROM:-0600
TZOFFSETTO:-0700
TZNAME:MST
DTSTART:20251102T080000
END:STANDARD
BEGIN:DAYLIGHT
TZOFFSETFROM:-0700
TZOFFSETTO:-0600
TZNAME:MDT
DTSTART:20260308T090000
END:DAYLIGHT
BEGIN:STANDARD
TZOFFSETFROM:-0600
TZOFFSETTO:-0700
TZNAME:MST
DTSTART:20261101T080000
END:STANDARD
END:VTIMEZONE
BEGIN:VEVENT
DTSTART;TZID=America/Denver:20251108T100000
DTEND;TZID=America/Denver:20251108T120000
DTSTAMP:20260423T175125
CREATED:20251027T045634Z
LAST-MODIFIED:20251027T045921Z
UID:1715-1762596000-1762603200@jerichoroadstudio.com
SUMMARY:Pottery Workshop: Paint Palettes Part 1 (Saturday)
DESCRIPTION:Featuring Tiptoe Art Studio\nJuniper Moon Studios is hosting a pottery workshop! All supplies will be provided\, come for a fun evening from 10-12 on November 8th and again on December 6th. \nThis is a two part workshop\, part 1 will consist of making the palettes out of ceramic clay. Part 2 we will be painting\, or glazing the palettes. \n$60/person for a two part class\, November 8th and December 6th from 10:00-12:00 pm. \nOn November 8th we will get creative as we design and make a one of a kind set of palettes out of clay! There will be examples to get inspiration from. The palettes will be fired in a kiln to prepare them for glazing (glazing is the process of painting the ceramics so they will have a smooth\, protective surface). Then on December 4th we will glaze the palettes to give them a finished look\, using a variety of colors that will be provided. After the second class the palettes will again be fired so they will have the beautiful\, smooth surface you see on pottery and ceramics. \nAfter the pieces are complete they will be ready within 2 weeks\, just in time for Christmas! \nPick-Up Pottery: You will get a call or text when the pottery is ready for pick up at Juniper Moon Studios.\nContact: 801-920-0527 \nThis class is for all ages. \nAll skill levels are welcome! \nWhen:\nPart 1: Saturday\, November 8th from 10:00-12:00 pm\nPart 2: Saturday\, December 6th from 10:00-12:00 pm\nHow To Sign Up:\nVisit JerichoRoadStudio.com click on Parties/Classes scroll to Juniper Moon Studios to find the class date. Add the number of tickets desired and check out. \nCancelation and Refund Policy:\nNo refunds for cancelling less than 3 days before the class begins.\nPlease give 3 days notice of cancellations for a full refund. If you cancel within 3 days of the class you may receive a partial refund. \nVenue: Juniper Moon Studios \nVenue Phone: (435) 760-2592 \nVenue Website: https://www.junipermoonstudios.com/ \nAddress: 967 E 11000 S\, Paradise
URL:https://jerichoroadstudio.com/event/pottery-workshop-palettes/
LOCATION:Juniper Moon Studio\, 8915 S 200 W\, Paradise\, UT\, 84328\, United States
CATEGORIES:Paint Class,Pottery Class
ATTACH;FMTTYPE=image/png:https://jerichoroadstudio.com/wp-content/uploads/2025/10/2-4.png
ORGANIZER;CN="Carole":MAILTO:mcwarburton@gmail.com
END:VEVENT
END:VCALENDAR