BEGIN:VCALENDAR
VERSION:2.0
PRODID:-//Featuring Tiptoe Art - ECPv6.15.20//NONSGML v1.0//EN
CALSCALE:GREGORIAN
METHOD:PUBLISH
X-WR-CALNAME:Featuring Tiptoe Art
X-ORIGINAL-URL:https://jerichoroadstudio.com
X-WR-CALDESC:Events for Featuring Tiptoe Art
REFRESH-INTERVAL;VALUE=DURATION:PT1H
X-Robots-Tag:noindex
X-PUBLISHED-TTL:PT1H
BEGIN:VTIMEZONE
TZID:America/Denver
BEGIN:DAYLIGHT
TZOFFSETFROM:-0700
TZOFFSETTO:-0600
TZNAME:MDT
DTSTART:20240310T090000
END:DAYLIGHT
BEGIN:STANDARD
TZOFFSETFROM:-0600
TZOFFSETTO:-0700
TZNAME:MST
DTSTART:20241103T080000
END:STANDARD
BEGIN:DAYLIGHT
TZOFFSETFROM:-0700
TZOFFSETTO:-0600
TZNAME:MDT
DTSTART:20250309T090000
END:DAYLIGHT
BEGIN:STANDARD
TZOFFSETFROM:-0600
TZOFFSETTO:-0700
TZNAME:MST
DTSTART:20251102T080000
END:STANDARD
BEGIN:DAYLIGHT
TZOFFSETFROM:-0700
TZOFFSETTO:-0600
TZNAME:MDT
DTSTART:20260308T090000
END:DAYLIGHT
BEGIN:STANDARD
TZOFFSETFROM:-0600
TZOFFSETTO:-0700
TZNAME:MST
DTSTART:20261101T080000
END:STANDARD
END:VTIMEZONE
BEGIN:VEVENT
DTSTART;TZID=America/Denver:20251112T180000
DTEND;TZID=America/Denver:20251112T190000
DTSTAMP:20260423T175156
CREATED:20251027T035525Z
LAST-MODIFIED:20251027T053005Z
UID:1602-1762970400-1762974000@jerichoroadstudio.com
SUMMARY:Watercolor Class: Florals -Hosted by Juniper Moon Artisan Market
DESCRIPTION:Featuring Tiptoe Art Studio\nJuniper Moon Artisan Market is hosting a watercolor floral class! All supplies will be provided\, come for a fun evening from 6-7 pm on November 12th.\n$20/person\nWe will get creative as we paint flower arrangements! There will be examples to get inspiration from. We will focus on painting the jars\, or vases that the flowers are in.\nContact: 801-920-0527\nThis class is for all ages.\nAll skill levels are welcome!\nWhen: Wednesday\, November 12th from 6:00-7:00 pm\n\nHow To Sign Up:Visit JerichoRoadStudio.com click on Parties/Classes scroll to Juniper Artisan Market to find the class date. Add the number of tickets desired and check out.\nVenue: Juniper Moon Studios\nVenue Phone: (435) 760-2592\nVenue Website: https://www.junipermoonstudios.com/\nAddress: 967 E 11000 S\, Paradise
URL:https://jerichoroadstudio.com/event/watercolor-class-florals-hosted-by-juniper-moon-artisan-market/
LOCATION:Juniper Moon Studio\, 8915 S 200 W\, Paradise\, UT\, 84328\, United States
CATEGORIES:Paint Class
ATTACH;FMTTYPE=image/png:https://jerichoroadstudio.com/wp-content/uploads/2025/10/banner-24x12-1000-x-500-px-2.png
ORGANIZER;CN="Carole":MAILTO:mcwarburton@gmail.com
END:VEVENT
END:VCALENDAR