BEGIN:VCALENDAR
VERSION:2.0
PRODID:-//Featuring Tiptoe Art - ECPv6.15.20//NONSGML v1.0//EN
CALSCALE:GREGORIAN
METHOD:PUBLISH
X-WR-CALNAME:Featuring Tiptoe Art
X-ORIGINAL-URL:https://jerichoroadstudio.com
X-WR-CALDESC:Events for Featuring Tiptoe Art
REFRESH-INTERVAL;VALUE=DURATION:PT1H
X-Robots-Tag:noindex
X-PUBLISHED-TTL:PT1H
BEGIN:VTIMEZONE
TZID:America/Denver
BEGIN:DAYLIGHT
TZOFFSETFROM:-0700
TZOFFSETTO:-0600
TZNAME:MDT
DTSTART:20240310T090000
END:DAYLIGHT
BEGIN:STANDARD
TZOFFSETFROM:-0600
TZOFFSETTO:-0700
TZNAME:MST
DTSTART:20241103T080000
END:STANDARD
BEGIN:DAYLIGHT
TZOFFSETFROM:-0700
TZOFFSETTO:-0600
TZNAME:MDT
DTSTART:20250309T090000
END:DAYLIGHT
BEGIN:STANDARD
TZOFFSETFROM:-0600
TZOFFSETTO:-0700
TZNAME:MST
DTSTART:20251102T080000
END:STANDARD
BEGIN:DAYLIGHT
TZOFFSETFROM:-0700
TZOFFSETTO:-0600
TZNAME:MDT
DTSTART:20260308T090000
END:DAYLIGHT
BEGIN:STANDARD
TZOFFSETFROM:-0600
TZOFFSETTO:-0700
TZNAME:MST
DTSTART:20261101T080000
END:STANDARD
END:VTIMEZONE
BEGIN:VEVENT
DTSTART;TZID=America/Denver:20251122T100000
DTEND;TZID=America/Denver:20251122T180000
DTSTAMP:20260423T175126
CREATED:20251023T151324Z
LAST-MODIFIED:20251027T154759Z
UID:1682-1763805600-1763834400@jerichoroadstudio.com
SUMMARY:Booth @ The Patch Market
DESCRIPTION:Join us for a cozy day of fall shopping\, community\, and fun!  Our Patch Fall Market brings together local makers\, crafters\, and small businesses offering unique treasures you won’t find anywhere else.  From homemade jewelry and seasonal decor to candles\, gifts and treats\, this is the perfect place to shop and celebrate the season.  Bring your family\, enjoy the atmosphere\, and support local vendors at this one of a kind fall event! \n\n\n\n\n\n\nSat\, Nov 22\, 2025\n\n\n\n\n\n\n\n\n10:00am – 6:00pm MST\n\n\n\n\n\n\n\n\nLocation:\n\n1964 N 400 E St\, Ogden\, UT 84414
URL:https://jerichoroadstudio.com/event/the-patch-market/
LOCATION:The Kids Patch\, 1964 N. Washington Blvd.\, North Ogden\, UT\, 84414\, United States
CATEGORIES:Market
ATTACH;FMTTYPE=image/png:https://jerichoroadstudio.com/wp-content/uploads/2025/10/Screenshot-2025-10-23-at-9.06.33-AM.png
END:VEVENT
END:VCALENDAR