BEGIN:VCALENDAR
VERSION:2.0
PRODID:-//Featuring Tiptoe Art - ECPv6.15.20//NONSGML v1.0//EN
CALSCALE:GREGORIAN
METHOD:PUBLISH
X-ORIGINAL-URL:https://jerichoroadstudio.com
X-WR-CALDESC:Events for Featuring Tiptoe Art
REFRESH-INTERVAL;VALUE=DURATION:PT1H
X-Robots-Tag:noindex
X-PUBLISHED-TTL:PT1H
BEGIN:VTIMEZONE
TZID:America/Denver
BEGIN:DAYLIGHT
TZOFFSETFROM:-0700
TZOFFSETTO:-0600
TZNAME:MDT
DTSTART:20240310T090000
END:DAYLIGHT
BEGIN:STANDARD
TZOFFSETFROM:-0600
TZOFFSETTO:-0700
TZNAME:MST
DTSTART:20241103T080000
END:STANDARD
BEGIN:DAYLIGHT
TZOFFSETFROM:-0700
TZOFFSETTO:-0600
TZNAME:MDT
DTSTART:20250309T090000
END:DAYLIGHT
BEGIN:STANDARD
TZOFFSETFROM:-0600
TZOFFSETTO:-0700
TZNAME:MST
DTSTART:20251102T080000
END:STANDARD
BEGIN:DAYLIGHT
TZOFFSETFROM:-0700
TZOFFSETTO:-0600
TZNAME:MDT
DTSTART:20260308T090000
END:DAYLIGHT
BEGIN:STANDARD
TZOFFSETFROM:-0600
TZOFFSETTO:-0700
TZNAME:MST
DTSTART:20261101T080000
END:STANDARD
END:VTIMEZONE
BEGIN:VEVENT
DTSTART;TZID=America/Denver:20251210T130000
DTEND;TZID=America/Denver:20251210T143000
DTSTAMP:20260423T163447
CREATED:20251119T184902Z
LAST-MODIFIED:20251129T212620Z
UID:2061-1765371600-1765377000@jerichoroadstudio.com
SUMMARY:Watercolor Class @ Juniper Moon Artisan Market
DESCRIPTION:Featuring Tiptoe Art Studio\nJuniper Moon Artisan Market is hosting a four-part watercolor class! All supplies will be provided. Join me December 10rd from 1:00-2:30 pm. You can take one class or join for a four series class on Wednesday\, December 3rd\, 10th\, 17th\, and January 7th!\n$20/person for each class\nor $65/person for all four classes\nTo sign up for all four classes\, Click Here\nWe will get creative as we paint with watercolors! There will be examples to get inspiration from. We will practice a few techniques and then start painting.\n\nContact Tarra: 801-920-0527\nThis class is for all ages.\nAll skill levels are welcome! Great for homeschooled kids!\nWhen: Wednesday December 10th from 1:00-2:30 pm\nVenue: Juniper Moon Studios\nVenue Website: https://www.junipermoonstudios.com/\nAddress: 8915 S 200 W Paradise
URL:https://jerichoroadstudio.com/event/watercolor-class-juniper-moon-artisan-market-3/
LOCATION:Juniper Moon Studio\, 8915 S 200 W\, Paradise\, UT\, 84328\, United States
CATEGORIES:Paint Class
ATTACH;FMTTYPE=image/png:https://jerichoroadstudio.com/wp-content/uploads/2025/10/Juniper-Moon-WC.png
END:VEVENT
BEGIN:VEVENT
DTSTART;TZID=America/Denver:20251210T180000
DTEND;TZID=America/Denver:20251210T190000
DTSTAMP:20260423T163447
CREATED:20251027T052944Z
LAST-MODIFIED:20251027T150725Z
UID:1727-1765389600-1765393200@jerichoroadstudio.com
SUMMARY:Watercolor Class: Cards -Hosted by Juniper Moon Artisan Market
DESCRIPTION:Featuring Tiptoe Art Studio\nJuniper Moon Artisan Market is hosting a watercolor class! All supplies will be provided\, come for a fun evening from 6-7 pm on December 10th.\n$20/person\nWe will get creative as we paint Christmas cards! There will be examples to get inspiration from. We will practice a few techniques and then start painting pictures on Christmas cards.\n\nContact Tarra: 801-920-0527\nThis class is for all ages.\nAll skill levels are welcome!\nWhen: Wednesday\, December 10th from 6:00-7:00 pm\nVenue: Juniper Moon Studios\nVenue Website: https://www.junipermoonstudios.com/\nAddress: 967 E 11000 S\, Paradise
URL:https://jerichoroadstudio.com/event/watercolor-class-cards-hosted-by-juniper-moon-artisan-market/
LOCATION:Juniper Moon Studio\, 8915 S 200 W\, Paradise\, UT\, 84328\, United States
CATEGORIES:Paint Class
ATTACH;FMTTYPE=image/png:https://jerichoroadstudio.com/wp-content/uploads/2025/10/banner-24x12-1000-x-500-px-1-1.png
END:VEVENT
END:VCALENDAR