BEGIN:VCALENDAR
VERSION:2.0
PRODID:-//Featuring Tiptoe Art - ECPv6.15.20//NONSGML v1.0//EN
CALSCALE:GREGORIAN
METHOD:PUBLISH
X-ORIGINAL-URL:https://jerichoroadstudio.com
X-WR-CALDESC:Events for Featuring Tiptoe Art
REFRESH-INTERVAL;VALUE=DURATION:PT1H
X-Robots-Tag:noindex
X-PUBLISHED-TTL:PT1H
BEGIN:VTIMEZONE
TZID:America/Denver
BEGIN:DAYLIGHT
TZOFFSETFROM:-0700
TZOFFSETTO:-0600
TZNAME:MDT
DTSTART:20240310T090000
END:DAYLIGHT
BEGIN:STANDARD
TZOFFSETFROM:-0600
TZOFFSETTO:-0700
TZNAME:MST
DTSTART:20241103T080000
END:STANDARD
BEGIN:DAYLIGHT
TZOFFSETFROM:-0700
TZOFFSETTO:-0600
TZNAME:MDT
DTSTART:20250309T090000
END:DAYLIGHT
BEGIN:STANDARD
TZOFFSETFROM:-0600
TZOFFSETTO:-0700
TZNAME:MST
DTSTART:20251102T080000
END:STANDARD
BEGIN:DAYLIGHT
TZOFFSETFROM:-0700
TZOFFSETTO:-0600
TZNAME:MDT
DTSTART:20260308T090000
END:DAYLIGHT
BEGIN:STANDARD
TZOFFSETFROM:-0600
TZOFFSETTO:-0700
TZNAME:MST
DTSTART:20261101T080000
END:STANDARD
BEGIN:DAYLIGHT
TZOFFSETFROM:-0700
TZOFFSETTO:-0600
TZNAME:MDT
DTSTART:20270314T090000
END:DAYLIGHT
BEGIN:STANDARD
TZOFFSETFROM:-0600
TZOFFSETTO:-0700
TZNAME:MST
DTSTART:20271107T080000
END:STANDARD
END:VTIMEZONE
BEGIN:VEVENT
DTSTART;TZID=America/Denver:20260214T100000
DTEND;TZID=America/Denver:20260214T120000
DTSTAMP:20260423T133021
CREATED:20251229T155724Z
LAST-MODIFIED:20260212T002900Z
UID:2194-1771063200-1771070400@jerichoroadstudio.com
SUMMARY:Valentine's Day Pottery Workshop Part 1 -hosted by Bodrero Framing & Design
DESCRIPTION:Bring a date and save $10 total for both of you!\nPottery Workshop: Jewelry/Coin Dishes\nFeaturing Tiptoe Art Studio\nBodrero Framing and Design is hosting a pottery workshop! All supplies will be provided\, come for a fun evening from 10am-12pm on February 14th and again on March 7th. \nThis is a two part workshop\, part 1 will consist of making the small dishes out of ceramic clay. Part 2 we will be painting\, or glazing them. \n$60/person for a two part class\, February 14th and again on March 7th from 10:00-12:00. \nOn February 14th we will get creative as we design and make a one of a kind dish out of clay! They will be fired in a kiln to prepare them for glazing (glazing is the process of painting the ceramics so they will have a smooth\, protective surface). Then on March 7th we will glaze them to give them a finished look\, using a variety of colors that will be provided. After the second class the dishes will again be fired so they will have the beautiful\, smooth surface you see on pottery and ceramics. \nPick-Up Pottery: You will get a call or text when the pottery is ready for pick up at Bodrero Framing and Design.\nContact: 801-920-0527 \nThis class is for all ages. \nAll skill levels are welcome! \nWhen:\nPart 1: Saturday\, February 14th from 10:00 am-12:00 pm\nPart 2: Saturday\, March 7th from 10:00 am-12:00 pm\nHow To Sign Up:\nVisit JerichoRoadStudio.com click on Parties/Classes scroll to Bodrero Framing and Design to find the class date. Add the number of tickets desired and check out! \nCancelation and Refund Policy:\nNo refunds for cancelling less than 3 days before the class begins.\nPlease give 3 days notice of cancellations for a full refund. If you cancel within 3 days of the class you may receive a partial refund. \nVenue: Bodrero Framing and Design \nVenue Phone: (435) 752-0370 \nVenue Website: https://bodreroframinganddesign.com/ \nAddress: 75 S Main\, Logan\, UT
URL:https://jerichoroadstudio.com/event/valentines-day-pottery-workshop-part-1-hosted-by-bodrero-framing-design/
LOCATION:Bodrero Framing a Deign\, 75 S. Main St\, Logan\, UT\, 84321\, United States
CATEGORIES:Pottery Class
ATTACH;FMTTYPE=image/png:https://jerichoroadstudio.com/wp-content/uploads/2025/12/Juniper-Moon-Pottery.png
END:VEVENT
BEGIN:VEVENT
DTSTART;TZID=America/Denver:20260204T180000
DTEND;TZID=America/Denver:20260204T200000
DTSTAMP:20260423T133021
CREATED:20251013T212422Z
LAST-MODIFIED:20251203T010054Z
UID:1578-1770228000-1770235200@jerichoroadstudio.com
SUMMARY:February Pottery Workshop: Mugs -hosted by The Kids Patch
DESCRIPTION:Pottery Workshop: Mugs\nFeaturing Tiptoe Art Studio\nThe Kids Patch is hosting a pottery workshop! All supplies will be provided\, come for a fun evening from 6-8 pm on February 4th. Join us each month for a new project\, the workshops will be on the first Wednesday of every month. You can choose which months to come! Pay once for both sessions. \nThis is a two part workshop\, part 1 will consist of making the mugs out of ceramic clay. Part 2 we will be painting\, or glazing the mugs. \n$60/person for a two part class.\nOn February 4th we will get creative as we design and make a one of a kind mug out of clay! There will be examples to get inspiration from. The mugs will be fired in a kiln to prepare them for glazing (glazing is the process of painting the ceramics so they will have a smooth\, protective surface). Then the next time you come we will glaze the mugs to give them a finished look\, using a variety of colors that will be provided. After the second class the mugs will again be fired so they will have the beautiful\, smooth surface you see on pottery and ceramics. \nAfter the pieces are complete they will be ready within 2 weeks! \nPick-Up Pottery: You will get a call or text when the pottery is ready for pick up at The Kids Patch.\nContact: 801-920-0527 \nThis class is for all ages. \nAll skill levels are welcome! \nRegister Here\nCancelation and Refund Policy:\nNo refunds for cancelling less than 3 days before the class begins.\nPlease give 3 days notice of cancellations for a full refund. If you cancel within 3 days of the class you may receive a partial refund. \nVenue: The Kids Patch \nVenue Phone: (801) 710-0525 \nVenue Website: https://www.brushupartstudio.com/ \nAddress: 1964 N Washington BIvd Suite A\, North Ogden\, Utah
URL:https://jerichoroadstudio.com/event/pottery-workshop-mugs/
LOCATION:The Kids Patch\, 1964 N. Washington Blvd.\, North Ogden\, UT\, 84414\, United States
CATEGORIES:Paint Class,Pottery Class
ATTACH;FMTTYPE=image/png:https://jerichoroadstudio.com/wp-content/uploads/2025/10/banner-24x12-1000-x-500-px-1.png
END:VEVENT
BEGIN:VEVENT
DTSTART;TZID=America/Denver:20260124T100000
DTEND;TZID=America/Denver:20260124T120000
DTSTAMP:20260423T133021
CREATED:20251229T155720Z
LAST-MODIFIED:20260121T230113Z
UID:2195-1769248800-1769256000@jerichoroadstudio.com
SUMMARY:Valentine's Day Pottery Workshop Part 2 -hosted by Bodrero Framing & Design
DESCRIPTION:Bring a date!\nPottery Workshop: Jewelry/Coin Dishes\nFeaturing Tiptoe Art Studio\nBodrero Framing and Design is hosting a pottery workshop! All supplies will be provided\, come for a fun evening from 10am-12pm on February 14th and again on March 7th. \nThis is a two part workshop\, part 1 will consist of making the small dishes out of ceramic clay. Part 2 we will be painting\, or glazing them. \n$60/person for a two part class\, February 14th and again on March 7th from 10:00-12:00. \nOn February 14th we will get creative as we design and make a one of a kind dish out of clay! They will be fired in a kiln to prepare them for glazing (glazing is the process of painting the ceramics so they will have a smooth\, protective surface). Then on March 7th we will glaze them to give them a finished look\, using a variety of colors that will be provided. After the second class the dishes will again be fired so they will have the beautiful\, smooth surface you see on pottery and ceramics. \nPick-Up Pottery: You will get a call or text when the pottery is ready for pick up at Bodrero Framing and Design.\nContact: 801-920-0527 \nThis class is for all ages. \nAll skill levels are welcome! \nWhen:\nPart 1: Saturday\, February 14th from 10:00 am-12:00 pm\nPart 2: Saturday\, March 7th from 10:00 am-12:00 pm\nHow To Sign Up:\nVisit JerichoRoadStudio.com click on Parties/Classes scroll to Bodrero Framing and Design to find the class date. Add the number of tickets desired and check out! \nCancelation and Refund Policy:\nNo refunds for cancelling less than 3 days before the class begins.\nPlease give 3 days notice of cancellations for a full refund. If you cancel within 3 days of the class you may receive a partial refund. \nVenue: Bodrero Framing and Design \nVenue Phone: (435) 752-0370 \nVenue Website: https://bodreroframinganddesign.com/ \nAddress: 75 S Main\, Logan\, UT
URL:https://jerichoroadstudio.com/event/pottery-workshop-part-2-hosted-by-bodrero-framing-design/
LOCATION:Bodrero Framing a Deign\, 75 S. Main St\, Logan\, UT\, 84321\, United States
CATEGORIES:Pottery Class
ATTACH;FMTTYPE=image/png:https://jerichoroadstudio.com/wp-content/uploads/2025/12/Juniper-Moon-Pottery-1.png
END:VEVENT
BEGIN:VEVENT
DTSTART;TZID=America/Denver:20260107T180000
DTEND;TZID=America/Denver:20260107T200000
DTSTAMP:20260423T133022
CREATED:20251015T053109Z
LAST-MODIFIED:20251027T154729Z
UID:1609-1767808800-1767816000@jerichoroadstudio.com
SUMMARY:January Pottery Workshop -hosted by The Kids Patch
DESCRIPTION:Pottery Workshop\nFeaturing Tiptoe Art Studio\nJoin me every first Wednesday of the month at The Kids Patch for a pottery workshop! All supplies will be provided\, come for a fun evening from 6-8 pm. Join us each month for a new project\, the workshops will be on the first Wednesday of every month. \nThis is a two part workshop\, part 1 will consist of making pottery pieces out of ceramic clay. Part 2 we will be painting\, or glazing the pieces. \n$60/person for a two part class.\nWhen you pay for the class\, you will get to join us for two classes. \nFor the first class we will get creative as we design and make a one of a kind pottery piece out of clay! There will be examples to get inspiration from. The pottery will be fired in a kiln to prepare them for glazing (glazing is the process of painting the ceramics so they will have a smooth\, protective surface). The following month we will glaze the pieces to give them a finished look\, using a variety of colors that will be provided. After the second class the pieces will again be fired so they will have the beautiful\, smooth surface you see on pottery and ceramics. \nAfter the pieces are complete they will be ready within 2 weeks! \nPick-Up Pottery: You will get a call or text when the pottery is ready for pick up at The Kids Patch.\nContact: 801-920-0527 \nThis class is for all ages. \nAll skill levels are welcome! \nWhen:\nPart 1: Wednesday\, January 7rd from 6:00-8:00 pm\nPart 2: Wednesday\, February 4th from 6:00-8:00 pm\nRegister Here\nCancelation and Refund Policy:\nNo refunds for cancelling less than 3 days before the class begins.\nPlease give 3 days notice of cancellations for a full refund. If you cancel within 3 days of the class you may receive a partial refund. \nVenue: The Kids Patch \nVenue Phone: (801) 710-0525 \nVenue Website: https://www.brushupartstudio.com/ \nAddress: 1964 N Washington BIvd Suite A\, North Ogden\, Utah
URL:https://jerichoroadstudio.com/event/january-pottery-workshop/
LOCATION:The Kids Patch\, 1964 N. Washington Blvd.\, North Ogden\, UT\, 84414\, United States
CATEGORIES:Paint Class,Pottery Class
ATTACH;FMTTYPE=image/png:https://jerichoroadstudio.com/wp-content/uploads/2025/10/The-Kids-Patch-1.png
END:VEVENT
BEGIN:VEVENT
DTSTART;TZID=America/Denver:20251220T100000
DTEND;TZID=America/Denver:20251220T120000
DTSTAMP:20260423T133022
CREATED:20251015T055449Z
LAST-MODIFIED:20251124T202915Z
UID:1613-1766224800-1766232000@jerichoroadstudio.com
SUMMARY:Pottery Workshop Part 2 -Hosted by Bodrero Framing & Design
DESCRIPTION:Part 2 of the Pottery Workshop: Coasters\nFeaturing Tiptoe Art Studio\nBodrero Framing and Design is hosting a pottery workshop! All supplies will be provided\, come for a fun evening from 10am-12pm on December 6th and again on December 20th. \nThis is a two part workshop\, part 1 will consist of making the coasters out of ceramic clay. Part 2 we will be painting\, or glazing the coasters. \n$65/person for a two part class\, December 6th and December 20th from 10:00-12:00. \nOn December 6th we will get creative as we design and make a one of a kind set of coasters out of clay! The coasters will be fired in a kiln to prepare them for glazing (glazing is the process of painting the ceramics so they will have a smooth\, protective surface). Then on December 20th we will glaze the coasters to give them a finished look\, using a variety of colors that will be provided. After the second class the coasters will again be fired so they will have the beautiful\, smooth surface you see on pottery and ceramics. \nAfter the pieces are complete they will be ready in time for Christmas! \nPick-Up Pottery: You will get a call or text when the pottery is ready for pick up at Bodrero Framing and Design.\nContact: 801-920-0527 \nThis class is for all ages. \nAll skill levels are welcome! \nWhen:\nPart 1: Saturday\, December 6th from 10:00 am-12:00 pm\nPart 2: Saturday\, December 20th from 10:00 am-12:00 pm\nHow To Sign Up:\nVisit JerichoRoadStudio.com click on Parties/Classes scroll to Bodrero Framing and Design to find the class date. Add the number of tickets desired and check out! \nCancelation and Refund Policy:\nNo refunds for cancelling less than 3 days before the class begins.\nPlease give 3 days notice of cancellations for a full refund. If you cancel within 3 days of the class you may receive a partial refund. \nVenue: Bodrero Framing and Design \nVenue Phone: (435) 752-0370 \nVenue Website: https://bodreroframinganddesign.com/ \nAddress: 75 S Main\, Logan\, UT
URL:https://jerichoroadstudio.com/event/pottery-workshop-coasters-part-2/
LOCATION:Bodrero Framing a Deign\, 75 S. Main St\, Logan\, UT\, 84321\, United States
CATEGORIES:Paint Class,Pottery Class
ATTACH;FMTTYPE=image/png:https://jerichoroadstudio.com/wp-content/uploads/2025/10/1-1.png
END:VEVENT
BEGIN:VEVENT
DTSTART;TZID=America/Denver:20251206T100000
DTEND;TZID=America/Denver:20251206T120000
DTSTAMP:20260423T133022
CREATED:20250325T035048Z
LAST-MODIFIED:20260204T185746Z
UID:948-1765015200-1765022400@jerichoroadstudio.com
SUMMARY:Valentine's Day Pottery Workshop Part 1 -hosted by Bodrero Framing & Design
DESCRIPTION:Click here to sign up for the Valentine’s Day class!\n\nBring a date and save $10 total for both of you!\nPottery Workshop: Jewelry/Coin Dishes\nFeaturing Tiptoe Art Studio\nBodrero Framing and Design is hosting a pottery workshop! All supplies will be provided\, come for a fun evening from 10am-12pm on February 14th and again on March 7th. \nThis is a two part workshop\, part 1 will consist of making the small dishes out of ceramic clay. Part 2 we will be painting\, or glazing them. \n$60/person for a two part class\, February 14th and again on March 7th from 10:00-12:00. \nOn February 14th we will get creative as we design and make a one of a kind dish out of clay! They will be fired in a kiln to prepare them for glazing (glazing is the process of painting the ceramics so they will have a smooth\, protective surface). Then on March 7th we will glaze them to give them a finished look\, using a variety of colors that will be provided. After the second class the dishes will again be fired so they will have the beautiful\, smooth surface you see on pottery and ceramics. \nPick-Up Pottery: You will get a call or text when the pottery is ready for pick up at Bodrero Framing and Design.\nContact: 801-920-0527 \nThis class is for all ages. \nAll skill levels are welcome! \nWhen:\nPart 1: Saturday\, February 14th from 10:00 am-12:00 pm\nPart 2: Saturday\, March 7th from 10:00 am-12:00 pm\nHow To Sign Up:\nVisit JerichoRoadStudio.com click on Parties/Classes scroll to Bodrero Framing and Design to find the class date. Add the number of tickets desired and check out! \nCancelation and Refund Policy:\nNo refunds for cancelling less than 3 days before the class begins.\nPlease give 3 days notice of cancellations for a full refund. If you cancel within 3 days of the class you may receive a partial refund. \nVenue: Bodrero Framing and Design \nVenue Phone: (435) 752-0370 \nVenue Website: https://bodreroframinganddesign.com/ \nAddress: 75 S Main\, Logan\, UT
URL:https://jerichoroadstudio.com/event/pottery_workshop_coasters/
LOCATION:Bodrero Framing a Deign\, 75 S. Main St\, Logan\, UT\, 84321\, United States
CATEGORIES:Pottery Class
ATTACH;FMTTYPE=image/png:https://jerichoroadstudio.com/wp-content/uploads/2025/10/1-1.png
END:VEVENT
BEGIN:VEVENT
DTSTART;TZID=America/Denver:20251108T100000
DTEND;TZID=America/Denver:20251108T120000
DTSTAMP:20260423T133022
CREATED:20251027T045634Z
LAST-MODIFIED:20251027T045921Z
UID:1715-1762596000-1762603200@jerichoroadstudio.com
SUMMARY:Pottery Workshop: Paint Palettes Part 1 (Saturday)
DESCRIPTION:Featuring Tiptoe Art Studio\nJuniper Moon Studios is hosting a pottery workshop! All supplies will be provided\, come for a fun evening from 10-12 on November 8th and again on December 6th. \nThis is a two part workshop\, part 1 will consist of making the palettes out of ceramic clay. Part 2 we will be painting\, or glazing the palettes. \n$60/person for a two part class\, November 8th and December 6th from 10:00-12:00 pm. \nOn November 8th we will get creative as we design and make a one of a kind set of palettes out of clay! There will be examples to get inspiration from. The palettes will be fired in a kiln to prepare them for glazing (glazing is the process of painting the ceramics so they will have a smooth\, protective surface). Then on December 4th we will glaze the palettes to give them a finished look\, using a variety of colors that will be provided. After the second class the palettes will again be fired so they will have the beautiful\, smooth surface you see on pottery and ceramics. \nAfter the pieces are complete they will be ready within 2 weeks\, just in time for Christmas! \nPick-Up Pottery: You will get a call or text when the pottery is ready for pick up at Juniper Moon Studios.\nContact: 801-920-0527 \nThis class is for all ages. \nAll skill levels are welcome! \nWhen:\nPart 1: Saturday\, November 8th from 10:00-12:00 pm\nPart 2: Saturday\, December 6th from 10:00-12:00 pm\nHow To Sign Up:\nVisit JerichoRoadStudio.com click on Parties/Classes scroll to Juniper Moon Studios to find the class date. Add the number of tickets desired and check out. \nCancelation and Refund Policy:\nNo refunds for cancelling less than 3 days before the class begins.\nPlease give 3 days notice of cancellations for a full refund. If you cancel within 3 days of the class you may receive a partial refund. \nVenue: Juniper Moon Studios \nVenue Phone: (435) 760-2592 \nVenue Website: https://www.junipermoonstudios.com/ \nAddress: 967 E 11000 S\, Paradise
URL:https://jerichoroadstudio.com/event/pottery-workshop-palettes/
LOCATION:Juniper Moon Studio\, 8915 S 200 W\, Paradise\, UT\, 84328\, United States
CATEGORIES:Paint Class,Pottery Class
ATTACH;FMTTYPE=image/png:https://jerichoroadstudio.com/wp-content/uploads/2025/10/2-4.png
ORGANIZER;CN="Carole":MAILTO:mcwarburton@gmail.com
END:VEVENT
BEGIN:VEVENT
DTSTART;TZID=America/Denver:20250430T180000
DTEND;TZID=America/Denver:20250430T200000
DTSTAMP:20260423T133022
CREATED:20250325T040000Z
LAST-MODIFIED:20250327T061314Z
UID:952-1746036000-1746043200@jerichoroadstudio.com
SUMMARY:Glazing Class
DESCRIPTION:What:\nBeginner Hand Building Pottery: Paint Palettes Workshop \nAll skill levels are welcome to join\, the project is considered beginner. We will turn a ball of clay into a fun work of art! For the second class we will glaze them. You will have many colors to choose from to paint your pottery and make it one of a kind. \nThis is a beginner class\, all skill levels are welcome! \n$60/person for a two part class\, April 2nd and 30th. \nOR \nGlaze only on Wednesday\, April 30th. You will choose from a variety of handmade pottery pieces available and will learn how to glaze them! Glazing is essentially painting the pottery. There will be a variety of colors available and examples to give inspiration. Join me for an evening of fun\, and learn a new skill! \n$35/person (one piece is included with the class\, you may choose to purchase more pieces at the event) \nA pottery wheel will also be available on April 2nd for all class participants to use and learn to throw a pot on if interested. \nAfter the pieces are complete they will be ready within 2 weeks. If you need it more quickly please talk to me at the class and I can make sure to have it ready for pick up as quickly as possible. \nPick-Up Pottery: You will get a call or text when the pottery is ready for pick up at the Local Artisan Collective.\nContact: 801-920-0527 \nWhen:\nWednesday\, April 2nd from 6:00-8:00 pm & April 30th from 6:00-8:00 pm \nOR \nWednesday\, April 30th from 6:00-8:00 pm for the Glazing class \nWhere:\nThe Local Artisan Collective located at 2371 Kiesel Ave\, Ogden \nCost:\n$60 per person for April 2nd and 30th \nOR \n$35 for the glazing class on April 30th \nHow To Sign Up: \nVisit https://localartisancollective.com/?p=39887 \nor call (801) 399-2787 \nAdd the number of participants. Click “Register Now” \nAges:\n5 and up \nCancelation and Refund Policy:\nNo refunds for cancelling less than 3 days before the class begins.\nPlease give 3 days notice of cancellations for a full refund. If you cancel within 3 days of the class you may receive a partial refund. \nVenue: The Local Artisan Collective \nVenue Phone: (801) 399-2787 \nVenue Website: https://localartisancollective.com/event-calendar/ \nAddress:\n2371 Kiesel Ave.\, Ogden\, Utah\, 84404\, United States \nDescription: \nThe Local Artisan Collective in Ogden\, Utah\, is a hub for local artisans to showcase and sell their handmade goods\, including jewelry\, art\, and home decor. It promotes community engagement through workshops and classes\, making it a key destination for supporting local creativity and finding unique items.
URL:https://jerichoroadstudio.com/event/glazing-class/
LOCATION:The Local Artisan Collective\, 2371 Kiesel Ave\, Ogden\, UT\, 84404\, United States
CATEGORIES:Pottery Class
ATTACH;FMTTYPE=image/webp:https://jerichoroadstudio.com/wp-content/uploads/2025/03/paint-palette.webp
END:VEVENT
BEGIN:VEVENT
DTSTART;TZID=America/Denver:20250419T100000
DTEND;TZID=America/Denver:20250419T120000
DTSTAMP:20260423T133022
CREATED:20250326T173921Z
LAST-MODIFIED:20250327T061803Z
UID:980-1745056800-1745064000@jerichoroadstudio.com
SUMMARY:Gone to Pot\, Beginner Hand Building Pottery
DESCRIPTION:What:\nBeginner Hand Building Pottery: Paint Palettes Workshop \nAll skill levels are welcome to join\, the project is considered beginner. We will turn a ball of clay into a fun work of art! For the second class we will glaze them. You will have many colors to choose from to paint your pottery and make it one of a kind. \nThis is a beginner class\, all skill levels are welcome! \n$60/person for a two part class\, April 19th and May 3rd. \nA pottery wheel will also be available on April 2nd for all class participants to use and learn to throw a pot on if interested. \nAfter the pieces are complete they will be ready within 2 weeks. If you need it more quickly please talk to me at the class and I can make sure to have it ready for pick up as quickly as possible. \nPick-Up Pottery: You will get a call or text when the pottery is ready for pick up at the Local Artisan Collective.\nContact: 801-920-0527 \nWhen:\nSaturday\, April 19th from 10:00 am-12:00 pm & May 3rd from 10:00 am-12:00 pm \nCost:\n$60 per person for April 2nd and 30th \nHow To Sign Up:\nhttps://lcf.zuh.temporary.site/event/gone-to-pot-beginner-hand-building-pottery/ \nAdd the number of participants. Click “Register Now” \nAges:\nAges 5 and up \nCancelation and Refund Policy:\nNo refunds for cancelling less than 3 days before the class begins.\nPlease give 3 days notice of cancellations for a full refund. If you cancel within 3 days of the class you may receive a partial refund. \nVenue: My Studio in West Haven\, UT. You will receive the address by email after purchasing your ticket for the class. \nVenue Phone: (801) 920-0527 \nVenue Website: https://jerichoroadstudio.com
URL:https://jerichoroadstudio.com/event/gone-to-pot-beginner-hand-building-pottery/
LOCATION:Studio\, West Haven\, UT\, 84401\, United States
CATEGORIES:Pottery Class
ATTACH;FMTTYPE=image/png:https://jerichoroadstudio.com/wp-content/uploads/2025/03/Listing-Photos-17.png
END:VEVENT
END:VCALENDAR