BEGIN:VCALENDAR
VERSION:2.0
PRODID:-//Featuring Tiptoe Art - ECPv6.15.20//NONSGML v1.0//EN
CALSCALE:GREGORIAN
METHOD:PUBLISH
X-ORIGINAL-URL:https://jerichoroadstudio.com
X-WR-CALDESC:Events for Featuring Tiptoe Art
REFRESH-INTERVAL;VALUE=DURATION:PT1H
X-Robots-Tag:noindex
X-PUBLISHED-TTL:PT1H
BEGIN:VTIMEZONE
TZID:America/Denver
BEGIN:DAYLIGHT
TZOFFSETFROM:-0700
TZOFFSETTO:-0600
TZNAME:MDT
DTSTART:20250309T090000
END:DAYLIGHT
BEGIN:STANDARD
TZOFFSETFROM:-0600
TZOFFSETTO:-0700
TZNAME:MST
DTSTART:20251102T080000
END:STANDARD
BEGIN:DAYLIGHT
TZOFFSETFROM:-0700
TZOFFSETTO:-0600
TZNAME:MDT
DTSTART:20260308T090000
END:DAYLIGHT
BEGIN:STANDARD
TZOFFSETFROM:-0600
TZOFFSETTO:-0700
TZNAME:MST
DTSTART:20261101T080000
END:STANDARD
BEGIN:DAYLIGHT
TZOFFSETFROM:-0700
TZOFFSETTO:-0600
TZNAME:MDT
DTSTART:20270314T090000
END:DAYLIGHT
BEGIN:STANDARD
TZOFFSETFROM:-0600
TZOFFSETTO:-0700
TZNAME:MST
DTSTART:20271107T080000
END:STANDARD
END:VTIMEZONE
BEGIN:VEVENT
DTSTART;TZID=America/Denver:20260326T183000
DTEND;TZID=America/Denver:20260326T200000
DTSTAMP:20260423T175523
CREATED:20260221T013853Z
LAST-MODIFIED:20260316T185025Z
UID:2303-1774549800-1774555200@jerichoroadstudio.com
SUMMARY:Mixed Media Art for Kids
DESCRIPTION:Mixed Media Art is an energetic mixed media class for kids that encourages imagination and experimentation with a variety of art materials. Through guided projects and open-ended prompts\, students learn to combine drawing\, painting\, collage\, and simple 3D elements. \nWhat students will do: \n\nWork with a variety of different mediums\, such as watercolor paints\, acrylic paints\, clay\, papers\, markers\, objects found in nature\, etc\nPractice basic drawing and painting to enhance mixed-media pieces\nExperiment with texture\, pattern\, and composition\nCreate themed projects (portrait collages\, textured landscapes\, storyboards\, small sculptures)\nShare and discuss work in a supportive setting\n\nWho it’s for: \n\nAges 6–16\nBeginners welcome; curiosity and willingness to try new materials encouraged\n\nClass format & materials: \n\nWeekly 90 minute lessons for a 4 week session\nSmall group size for individualized guidance\nSupplies provided\n\nSave $10 when you sign up for the whole month!
URL:https://jerichoroadstudio.com/event/mixed-media-art-for-kids-4/
LOCATION:Juniper Moon Studio\, 8915 S 200 W\, Paradise\, UT\, 84328\, United States
CATEGORIES:Art Class
END:VEVENT
BEGIN:VEVENT
DTSTART;TZID=America/Denver:20260327T110000
DTEND;TZID=America/Denver:20260327T123000
DTSTAMP:20260423T175523
CREATED:20260221T015837Z
LAST-MODIFIED:20260221T015837Z
UID:2318-1774609200-1774614600@jerichoroadstudio.com
SUMMARY:Bright Beginnings — Watercolor Painting for Homeschooled Kids
DESCRIPTION:Bright Beginnings is a fun\, relaxed watercolor class designed for homeschooled children to explore color\, texture\, and creative expression. Through simple\, playful projects and step-by-step demonstrations\, students learn basic watercolor techniques (wet-on-wet\, wet-on-dry\, blending\, layering)\, color mixing\, brush care\, and composition while building confidence and artistic vocabulary. \nWhat students will do: \n\nTry hands-on exercises to practice washes\, gradients\, and simple textures\nPaint themed projects (landscapes\, animals\, plants\, and imaginative scenes)\nLearn to mix colors and create value with water control\nShare work and receive gentle\, encouraging feedback\n\nWho it’s for: \n\nAges 6–16\nBeginners welcome; no prior experience needed\n\nClass format & materials: \n\nWeekly 90 minute lessons\nSmall group size for individual attention\nSupples provided
URL:https://jerichoroadstudio.com/event/bright-beginnings-watercolor-painting-for-homeschooled-kids-5/
LOCATION:Juniper Moon Studio\, 8915 S 200 W\, Paradise\, UT\, 84328\, United States
CATEGORIES:Paint Class
END:VEVENT
BEGIN:VEVENT
DTSTART;TZID=America/Denver:20260402T183000
DTEND;TZID=America/Denver:20260402T200000
DTSTAMP:20260423T175523
CREATED:20260214T034310Z
LAST-MODIFIED:20260316T190659Z
UID:2282-1775154600-1775160000@jerichoroadstudio.com
SUMMARY:Mixed Media Art for Kids
DESCRIPTION:Mixed Media Art is an energetic mixed media class for kids that encourages imagination and experimentation with a variety of art materials. Through guided projects and open-ended prompts\, students learn to combine drawing\, painting\, collage\, and simple 3D elements. \nWhat students will do: \n\nWork with a variety of different mediums\, such as watercolor paints\, acrylic paints\, clay\, papers\, markers\, objects found in nature\, etc\nPractice basic drawing and painting to enhance mixed-media pieces\nExperiment with texture\, pattern\, and composition\nCreate themed projects (portrait collages\, textured landscapes\, storyboards\, small sculptures)\nShare and discuss work in a supportive setting\n\nWho it’s for: \n\nAges 6–16\nBeginners welcome; curiosity and willingness to try new materials encouraged\n\nClass format & materials: \n\nWeekly 90 minute lessons for a 4 week session\nSmall group size for individualized guidance\nSupplies provided
URL:https://jerichoroadstudio.com/event/mixed-media-art-for-kids/
LOCATION:Juniper Moon Studio\, 8915 S 200 W\, Paradise\, UT\, 84328\, United States
CATEGORIES:Art Class,Paint Class
END:VEVENT
BEGIN:VEVENT
DTSTART;TZID=America/Denver:20260409T183000
DTEND;TZID=America/Denver:20260409T200000
DTSTAMP:20260423T175523
CREATED:20260221T012318Z
LAST-MODIFIED:20260316T190801Z
UID:2294-1775759400-1775764800@jerichoroadstudio.com
SUMMARY:Mixed Media Art for Kids
DESCRIPTION:Mixed Media Art is an energetic mixed media class for kids that encourages imagination and experimentation with a variety of art materials. Through guided projects and open-ended prompts\, students learn to combine drawing\, painting\, collage\, and simple 3D elements. \nWhat students will do: \n\nWork with a variety of different mediums\, such as watercolor paints\, acrylic paints\, clay\, papers\, markers\, objects found in nature\, etc\nPractice basic drawing and painting to enhance mixed-media pieces\nExperiment with texture\, pattern\, and composition\nCreate themed projects (portrait collages\, textured landscapes\, storyboards\, small sculptures)\nShare and discuss work in a supportive setting\n\nWho it’s for: \n\nAges 6–16\nBeginners welcome; curiosity and willingness to try new materials encouraged\n\nClass format & materials: \n\nWeekly 90 minute lessons\nSmall group size for individualized guidance\nSupplies provided
URL:https://jerichoroadstudio.com/event/mixed-media-art-for-kids-2/
LOCATION:Juniper Moon Studio\, 8915 S 200 W\, Paradise\, UT\, 84328\, United States
CATEGORIES:Art Class
END:VEVENT
BEGIN:VEVENT
DTSTART;TZID=America/Denver:20260416T183000
DTEND;TZID=America/Denver:20260416T200000
DTSTAMP:20260423T175523
CREATED:20260316T192719Z
LAST-MODIFIED:20260416T001233Z
UID:2381-1776364200-1776369600@jerichoroadstudio.com
SUMMARY:Art Class for Kids
DESCRIPTION:This Art class is an energetic mixed media class for kids that encourages imagination and experimentation with a variety of art materials. Through guided projects and open-ended prompts\, students learn to combine drawing\, painting\, collage\, and simple 3D elements. \nWhat students will do: \n\nWork with a variety of different mediums\, such as watercolor paints\, acrylic paints\, clay\, papers\, markers\, objects found in nature\, etc\nPractice basic drawing and painting to enhance mixed-media pieces\nExperiment with texture\, pattern\, and composition\nCreate themed projects (portrait collages\, textured landscapes\, storyboards\, small sculptures)\nShare and discuss work in a supportive setting\n\nWho it’s for: \n\nAges 6–16\nBeginners welcome; curiosity and willingness to try new materials encouraged\n\nClass format & materials: \n\nWeekly 90 minute lessons\nSmall group size for individualized guidance\nSupplies provided
URL:https://jerichoroadstudio.com/event/mixed-media-art-for-kids-5/
LOCATION:Juniper Moon Studio\, 8915 S 200 W\, Paradise\, UT\, 84328\, United States
CATEGORIES:Art Class
END:VEVENT
BEGIN:VEVENT
DTSTART;TZID=America/Denver:20260423T183000
DTEND;TZID=America/Denver:20260423T200000
DTSTAMP:20260423T175523
CREATED:20260416T001808Z
LAST-MODIFIED:20260416T001808Z
UID:2441-1776969000-1776974400@jerichoroadstudio.com
SUMMARY:Art Class for Kids
DESCRIPTION:This Art class is an energetic mixed media class for kids that encourages imagination and experimentation with a variety of art materials. Through guided projects and open-ended prompts\, students learn to combine drawing\, painting\, collage\, and simple 3D elements. \nWhat students will do: \n\nWork with a variety of different mediums\, such as watercolor paints\, acrylic paints\, clay\, papers\, markers\, objects found in nature\, etc\nPractice basic drawing and painting to enhance mixed-media pieces\nExperiment with texture\, pattern\, and composition\nCreate themed projects (portrait collages\, textured landscapes\, storyboards\, small sculptures)\nShare and discuss work in a supportive setting\n\nWho it’s for: \n\nAges 6–16\nBeginners welcome; curiosity and willingness to try new materials encouraged\n\nClass format & materials: \n\nWeekly 90 minute lessons\nSmall group size for individualized guidance\nSupplies provided
URL:https://jerichoroadstudio.com/event/art-class-for-kids-2/
LOCATION:Juniper Moon Studio\, 8915 S 200 W\, Paradise\, UT\, 84328\, United States
CATEGORIES:Art Class
END:VEVENT
BEGIN:VEVENT
DTSTART;TZID=America/Denver:20260430T183000
DTEND;TZID=America/Denver:20260430T200000
DTSTAMP:20260423T175523
CREATED:20260416T001728Z
LAST-MODIFIED:20260417T152944Z
UID:2445-1777573800-1777579200@jerichoroadstudio.com
SUMMARY:Art Class for Kids
DESCRIPTION:This Art class is an energetic mixed media class for kids that encourages imagination and experimentation with a variety of art materials. Through guided projects and open-ended prompts\, students learn to combine drawing\, painting\, collage\, and simple 3D elements. \nWhat students will do: \n\nWork with a variety of different mediums\, such as watercolor paints\, acrylic paints\, clay\, papers\, markers\, objects found in nature\, etc\nPractice basic drawing and painting to enhance mixed-media pieces\nExperiment with texture\, pattern\, and composition\nCreate themed projects (portrait collages\, textured landscapes\, storyboards\, small sculptures)\nShare and discuss work in a supportive setting\n\nWho it’s for: \n\nAges 6–16\nBeginners welcome; curiosity and willingness to try new materials encouraged\n\nClass format & materials: \n\nWeekly 90 minute lessons\nSmall group size for individualized guidance\nSupplies provided
URL:https://jerichoroadstudio.com/event/art-class-for-kids/
LOCATION:Juniper Moon Studio\, 8915 S 200 W\, Paradise\, UT\, 84328\, United States
CATEGORIES:Art Class
END:VEVENT
BEGIN:VEVENT
DTSTART;TZID=America/Denver:20260507T183000
DTEND;TZID=America/Denver:20260507T200000
DTSTAMP:20260423T175523
CREATED:20260417T153214Z
LAST-MODIFIED:20260417T153214Z
UID:2459-1778178600-1778184000@jerichoroadstudio.com
SUMMARY:Art Class for Kids
DESCRIPTION:This Art class is an energetic mixed media class for kids that encourages imagination and experimentation with a variety of art materials. Through guided projects and open-ended prompts\, students learn to combine drawing\, painting\, collage\, and simple 3D elements. \nWhat students will do: \n\nWork with a variety of different mediums\, such as watercolor paints\, acrylic paints\, clay\, papers\, markers\, objects found in nature\, etc\nPractice basic drawing and painting to enhance mixed-media pieces\nExperiment with texture\, pattern\, and composition\nCreate themed projects (portrait collages\, textured landscapes\, storyboards\, small sculptures)\nShare and discuss work in a supportive setting\n\nWho it’s for: \n\nAges 6–16\nBeginners welcome; curiosity and willingness to try new materials encouraged\n\nClass format & materials: \n\nWeekly 90 minute lessons\nSmall group size for individualized guidance\nSupplies provided
URL:https://jerichoroadstudio.com/event/art-class-for-kids-4/
LOCATION:Juniper Moon Studio\, 8915 S 200 W\, Paradise\, UT\, 84328\, United States
CATEGORIES:Art Class
END:VEVENT
BEGIN:VEVENT
DTSTART;TZID=America/Denver:20260514T183000
DTEND;TZID=America/Denver:20260514T200000
DTSTAMP:20260423T175523
CREATED:20260417T153436Z
LAST-MODIFIED:20260417T153436Z
UID:2463-1778783400-1778788800@jerichoroadstudio.com
SUMMARY:Art Class for Kids
DESCRIPTION:This Art class is an energetic mixed media class for kids that encourages imagination and experimentation with a variety of art materials. Through guided projects and open-ended prompts\, students learn to combine drawing\, painting\, collage\, and simple 3D elements. \nWhat students will do: \n\nWork with a variety of different mediums\, such as watercolor paints\, acrylic paints\, clay\, papers\, markers\, objects found in nature\, etc\nPractice basic drawing and painting to enhance mixed-media pieces\nExperiment with texture\, pattern\, and composition\nCreate themed projects (portrait collages\, textured landscapes\, storyboards\, small sculptures)\nShare and discuss work in a supportive setting\n\nWho it’s for: \n\nAges 6–16\nBeginners welcome; curiosity and willingness to try new materials encouraged\n\nClass format & materials: \n\nWeekly 90 minute lessons\nSmall group size for individualized guidance\nSupplies provided
URL:https://jerichoroadstudio.com/event/art-class-for-kids-5/
LOCATION:Juniper Moon Studio\, 8915 S 200 W\, Paradise\, UT\, 84328\, United States
CATEGORIES:Art Class
END:VEVENT
BEGIN:VEVENT
DTSTART;TZID=America/Denver:20260521T183000
DTEND;TZID=America/Denver:20260521T200000
DTSTAMP:20260423T175523
CREATED:20260417T153702Z
LAST-MODIFIED:20260417T153702Z
UID:2465-1779388200-1779393600@jerichoroadstudio.com
SUMMARY:Art Class for Kids
DESCRIPTION:This Art class is an energetic mixed media class for kids that encourages imagination and experimentation with a variety of art materials. Through guided projects and open-ended prompts\, students learn to combine drawing\, painting\, collage\, and simple 3D elements. \nWhat students will do: \n\nWork with a variety of different mediums\, such as watercolor paints\, acrylic paints\, clay\, papers\, markers\, objects found in nature\, etc\nPractice basic drawing and painting to enhance mixed-media pieces\nExperiment with texture\, pattern\, and composition\nCreate themed projects (portrait collages\, textured landscapes\, storyboards\, small sculptures)\nShare and discuss work in a supportive setting\n\nWho it’s for: \n\nAges 6–16\nBeginners welcome; curiosity and willingness to try new materials encouraged\n\nClass format & materials: \n\nWeekly 90 minute lessons\nSmall group size for individualized guidance\nSupplies provided
URL:https://jerichoroadstudio.com/event/art-class-for-kids-6/
LOCATION:Juniper Moon Studio\, 8915 S 200 W\, Paradise\, UT\, 84328\, United States
CATEGORIES:Art Class
END:VEVENT
BEGIN:VEVENT
DTSTART;TZID=America/Denver:20260528T183000
DTEND;TZID=America/Denver:20260528T200000
DTSTAMP:20260423T175523
CREATED:20260417T153901Z
LAST-MODIFIED:20260417T153901Z
UID:2468-1779993000-1779998400@jerichoroadstudio.com
SUMMARY:Art Class for Kids
DESCRIPTION:This Art class is an energetic mixed media class for kids that encourages imagination and experimentation with a variety of art materials. Through guided projects and open-ended prompts\, students learn to combine drawing\, painting\, collage\, and simple 3D elements. \nWhat students will do: \n\nWork with a variety of different mediums\, such as watercolor paints\, acrylic paints\, clay\, papers\, markers\, objects found in nature\, etc\nPractice basic drawing and painting to enhance mixed-media pieces\nExperiment with texture\, pattern\, and composition\nCreate themed projects (portrait collages\, textured landscapes\, storyboards\, small sculptures)\nShare and discuss work in a supportive setting\n\nWho it’s for: \n\nAges 6–16\nBeginners welcome; curiosity and willingness to try new materials encouraged\n\nClass format & materials: \n\nWeekly 90 minute lessons\nSmall group size for individualized guidance\nSupplies provided
URL:https://jerichoroadstudio.com/event/art-class-for-kids-7/
LOCATION:Juniper Moon Studio\, 8915 S 200 W\, Paradise\, UT\, 84328\, United States
CATEGORIES:Art Class
END:VEVENT
END:VCALENDAR