BEGIN:VCALENDAR
VERSION:2.0
PRODID:-//Featuring Tiptoe Art - ECPv6.15.20//NONSGML v1.0//EN
CALSCALE:GREGORIAN
METHOD:PUBLISH
X-ORIGINAL-URL:https://jerichoroadstudio.com
X-WR-CALDESC:Events for Featuring Tiptoe Art
REFRESH-INTERVAL;VALUE=DURATION:PT1H
X-Robots-Tag:noindex
X-PUBLISHED-TTL:PT1H
BEGIN:VTIMEZONE
TZID:America/Denver
BEGIN:DAYLIGHT
TZOFFSETFROM:-0700
TZOFFSETTO:-0600
TZNAME:MDT
DTSTART:20240310T090000
END:DAYLIGHT
BEGIN:STANDARD
TZOFFSETFROM:-0600
TZOFFSETTO:-0700
TZNAME:MST
DTSTART:20241103T080000
END:STANDARD
BEGIN:DAYLIGHT
TZOFFSETFROM:-0700
TZOFFSETTO:-0600
TZNAME:MDT
DTSTART:20250309T090000
END:DAYLIGHT
BEGIN:STANDARD
TZOFFSETFROM:-0600
TZOFFSETTO:-0700
TZNAME:MST
DTSTART:20251102T080000
END:STANDARD
BEGIN:DAYLIGHT
TZOFFSETFROM:-0700
TZOFFSETTO:-0600
TZNAME:MDT
DTSTART:20260308T090000
END:DAYLIGHT
BEGIN:STANDARD
TZOFFSETFROM:-0600
TZOFFSETTO:-0700
TZNAME:MST
DTSTART:20261101T080000
END:STANDARD
END:VTIMEZONE
BEGIN:VEVENT
DTSTART;TZID=America/Denver:20250419T100000
DTEND;TZID=America/Denver:20250419T120000
DTSTAMP:20260423T133841
CREATED:20250326T173921Z
LAST-MODIFIED:20250327T061803Z
UID:980-1745056800-1745064000@jerichoroadstudio.com
SUMMARY:Gone to Pot\, Beginner Hand Building Pottery
DESCRIPTION:What:\nBeginner Hand Building Pottery: Paint Palettes Workshop \nAll skill levels are welcome to join\, the project is considered beginner. We will turn a ball of clay into a fun work of art! For the second class we will glaze them. You will have many colors to choose from to paint your pottery and make it one of a kind. \nThis is a beginner class\, all skill levels are welcome! \n$60/person for a two part class\, April 19th and May 3rd. \nA pottery wheel will also be available on April 2nd for all class participants to use and learn to throw a pot on if interested. \nAfter the pieces are complete they will be ready within 2 weeks. If you need it more quickly please talk to me at the class and I can make sure to have it ready for pick up as quickly as possible. \nPick-Up Pottery: You will get a call or text when the pottery is ready for pick up at the Local Artisan Collective.\nContact: 801-920-0527 \nWhen:\nSaturday\, April 19th from 10:00 am-12:00 pm & May 3rd from 10:00 am-12:00 pm \nCost:\n$60 per person for April 2nd and 30th \nHow To Sign Up:\nhttps://lcf.zuh.temporary.site/event/gone-to-pot-beginner-hand-building-pottery/ \nAdd the number of participants. Click “Register Now” \nAges:\nAges 5 and up \nCancelation and Refund Policy:\nNo refunds for cancelling less than 3 days before the class begins.\nPlease give 3 days notice of cancellations for a full refund. If you cancel within 3 days of the class you may receive a partial refund. \nVenue: My Studio in West Haven\, UT. You will receive the address by email after purchasing your ticket for the class. \nVenue Phone: (801) 920-0527 \nVenue Website: https://jerichoroadstudio.com
URL:https://jerichoroadstudio.com/event/gone-to-pot-beginner-hand-building-pottery/
LOCATION:Studio\, West Haven\, UT\, 84401\, United States
CATEGORIES:Pottery Class
ATTACH;FMTTYPE=image/png:https://jerichoroadstudio.com/wp-content/uploads/2025/03/Listing-Photos-17.png
END:VEVENT
END:VCALENDAR