BEGIN:VCALENDAR
VERSION:2.0
PRODID:-//Featuring Tiptoe Art - ECPv6.15.20//NONSGML v1.0//EN
CALSCALE:GREGORIAN
METHOD:PUBLISH
X-WR-CALNAME:Featuring Tiptoe Art
X-ORIGINAL-URL:https://jerichoroadstudio.com
X-WR-CALDESC:Events for Featuring Tiptoe Art
REFRESH-INTERVAL;VALUE=DURATION:PT1H
X-Robots-Tag:noindex
X-PUBLISHED-TTL:PT1H
BEGIN:VTIMEZONE
TZID:America/Denver
BEGIN:DAYLIGHT
TZOFFSETFROM:-0700
TZOFFSETTO:-0600
TZNAME:MDT
DTSTART:20250309T090000
END:DAYLIGHT
BEGIN:STANDARD
TZOFFSETFROM:-0600
TZOFFSETTO:-0700
TZNAME:MST
DTSTART:20251102T080000
END:STANDARD
BEGIN:DAYLIGHT
TZOFFSETFROM:-0700
TZOFFSETTO:-0600
TZNAME:MDT
DTSTART:20260308T090000
END:DAYLIGHT
BEGIN:STANDARD
TZOFFSETFROM:-0600
TZOFFSETTO:-0700
TZNAME:MST
DTSTART:20261101T080000
END:STANDARD
BEGIN:DAYLIGHT
TZOFFSETFROM:-0700
TZOFFSETTO:-0600
TZNAME:MDT
DTSTART:20270314T090000
END:DAYLIGHT
BEGIN:STANDARD
TZOFFSETFROM:-0600
TZOFFSETTO:-0700
TZNAME:MST
DTSTART:20271107T080000
END:STANDARD
END:VTIMEZONE
BEGIN:VEVENT
DTSTART;TZID=America/Denver:20260107T180000
DTEND;TZID=America/Denver:20260107T200000
DTSTAMP:20260423T191633
CREATED:20251015T053109Z
LAST-MODIFIED:20251027T154729Z
UID:1609-1767808800-1767816000@jerichoroadstudio.com
SUMMARY:January Pottery Workshop -hosted by The Kids Patch
DESCRIPTION:Pottery Workshop\nFeaturing Tiptoe Art Studio\nJoin me every first Wednesday of the month at The Kids Patch for a pottery workshop! All supplies will be provided\, come for a fun evening from 6-8 pm. Join us each month for a new project\, the workshops will be on the first Wednesday of every month. \nThis is a two part workshop\, part 1 will consist of making pottery pieces out of ceramic clay. Part 2 we will be painting\, or glazing the pieces. \n$60/person for a two part class.\nWhen you pay for the class\, you will get to join us for two classes. \nFor the first class we will get creative as we design and make a one of a kind pottery piece out of clay! There will be examples to get inspiration from. The pottery will be fired in a kiln to prepare them for glazing (glazing is the process of painting the ceramics so they will have a smooth\, protective surface). The following month we will glaze the pieces to give them a finished look\, using a variety of colors that will be provided. After the second class the pieces will again be fired so they will have the beautiful\, smooth surface you see on pottery and ceramics. \nAfter the pieces are complete they will be ready within 2 weeks! \nPick-Up Pottery: You will get a call or text when the pottery is ready for pick up at The Kids Patch.\nContact: 801-920-0527 \nThis class is for all ages. \nAll skill levels are welcome! \nWhen:\nPart 1: Wednesday\, January 7rd from 6:00-8:00 pm\nPart 2: Wednesday\, February 4th from 6:00-8:00 pm\nRegister Here\nCancelation and Refund Policy:\nNo refunds for cancelling less than 3 days before the class begins.\nPlease give 3 days notice of cancellations for a full refund. If you cancel within 3 days of the class you may receive a partial refund. \nVenue: The Kids Patch \nVenue Phone: (801) 710-0525 \nVenue Website: https://www.brushupartstudio.com/ \nAddress: 1964 N Washington BIvd Suite A\, North Ogden\, Utah
URL:https://jerichoroadstudio.com/event/january-pottery-workshop/
LOCATION:The Kids Patch\, 1964 N. Washington Blvd.\, North Ogden\, UT\, 84414\, United States
CATEGORIES:Paint Class,Pottery Class
ATTACH;FMTTYPE=image/png:https://jerichoroadstudio.com/wp-content/uploads/2025/10/The-Kids-Patch-1.png
END:VEVENT
END:VCALENDAR