BEGIN:VCALENDAR
VERSION:2.0
PRODID:-//Featuring Tiptoe Art - ECPv6.15.20//NONSGML v1.0//EN
CALSCALE:GREGORIAN
METHOD:PUBLISH
X-ORIGINAL-URL:https://jerichoroadstudio.com
X-WR-CALDESC:Events for Featuring Tiptoe Art
REFRESH-INTERVAL;VALUE=DURATION:PT1H
X-Robots-Tag:noindex
X-PUBLISHED-TTL:PT1H
BEGIN:VTIMEZONE
TZID:America/Denver
BEGIN:DAYLIGHT
TZOFFSETFROM:-0700
TZOFFSETTO:-0600
TZNAME:MDT
DTSTART:20250309T090000
END:DAYLIGHT
BEGIN:STANDARD
TZOFFSETFROM:-0600
TZOFFSETTO:-0700
TZNAME:MST
DTSTART:20251102T080000
END:STANDARD
BEGIN:DAYLIGHT
TZOFFSETFROM:-0700
TZOFFSETTO:-0600
TZNAME:MDT
DTSTART:20260308T090000
END:DAYLIGHT
BEGIN:STANDARD
TZOFFSETFROM:-0600
TZOFFSETTO:-0700
TZNAME:MST
DTSTART:20261101T080000
END:STANDARD
BEGIN:DAYLIGHT
TZOFFSETFROM:-0700
TZOFFSETTO:-0600
TZNAME:MDT
DTSTART:20270314T090000
END:DAYLIGHT
BEGIN:STANDARD
TZOFFSETFROM:-0600
TZOFFSETTO:-0700
TZNAME:MST
DTSTART:20271107T080000
END:STANDARD
END:VTIMEZONE
BEGIN:VEVENT
DTSTART;TZID=America/Denver:20260107T130000
DTEND;TZID=America/Denver:20260107T143000
DTSTAMP:20260423T152129
CREATED:20251119T165807Z
LAST-MODIFIED:20251129T212734Z
UID:2050-1767790800-1767796200@jerichoroadstudio.com
SUMMARY:Watercolor Class @ Juniper Moon Artisan Market
DESCRIPTION:Featuring Tiptoe Art Studio\nJuniper Moon Artisan Market is hosting a four-part watercolor class! All supplies will be provided. Join me January 7th from 1:00-2:30 pm. You can take one class or join for a four series class on Wednesday\, December 3rd\, 10th\, 17th\, and January 7th!\n$20/person for each class\nor $65/person for all four classes\nTo sign up for all four classes\, Click Here\nWe will get creative as we paint with watercolors! There will be examples to get inspiration from. We will practice a few techniques and then start painting.\n\nContact Tarra: 801-920-0527\nThis class is for all ages.\nAll skill levels are welcome! Great for homeschooled kids!\nWhen: Wednesday\, January 7th from 1:00-2:30 pm\nVenue: Juniper Moon Studios\nVenue Website: https://www.junipermoonstudios.com/\nAddress: 8915 S 200 W Paradise
URL:https://jerichoroadstudio.com/event/watercolor-class-juniper-moon-artisan-market/
LOCATION:Juniper Moon Studio\, 8915 S 200 W\, Paradise\, UT\, 84328\, United States
CATEGORIES:Paint Class
ATTACH;FMTTYPE=image/png:https://jerichoroadstudio.com/wp-content/uploads/2025/10/Juniper-Moon-WC.png
END:VEVENT
END:VCALENDAR